Workbook

Sheet Grille d'audit
A1: GRILLE D'AUDIT DES OPPORTUNITÉS IA
A2: Listez vos tâches récurrentes (20 max), remplissez les cellules jaunes → la priorité, la catégorie et le Top 5 se calculent seuls. Lignes 5-7 = exemples à remplacer.
A3: Nom : | C3: Entreprise / secteur :
A4: # | B4: Tâche | C4: Temps/sem (h) | D4: Répétitive ? | E4: IA possible ? | F4: Impact (1-5) | G4: Priorité (auto) | H4: Catégorie (auto) | I4: Rang (auto)
A5: 1 | B5: Rédiger les comptes-rendus de réunion | C5: 2 | D5: Oui | E5: Facile | F5: 4 | G5: =IF(OR(F5="",E5=""),"",F5*IF(E5="Facile",3,IF(E5="Moyen",2,1))*IF(D5="Non",0.5,1)) -> 12 | H5: =IF(G5="","",IF(AND(F5>=4,E5="Facile"),"🟢 QUICK WIN",IF(F5>=4,"🔵 STRATÉGIQUE",IF(AND(E5="Difficile",F5<=3),"🔴 À éviter","⚪ Remplissage")))) -> 🟢 QUICK WIN | I5: =IF(G5="","",COUNTIF($G$5:$G$24,">"&G5)+COUNTIF($G$5:G5,G5)) -> 2
A6: 2 | B6: Préparer les briefings avant RDV client | C6: 3 | D6: Oui | E6: Facile | F6: 5 | G6: =IF(OR(F6="",E6=""),"",F6*IF(E6="Facile",3,IF(E6="Moyen",2,1))*IF(D6="Non",0.5,1)) -> 15 | H6: =IF(G6="","",IF(AND(F6>=4,E6="Facile"),"🟢 QUICK WIN",IF(F6>=4,"🔵 STRATÉGIQUE",IF(AND(E6="Difficile",F6<=3),"🔴 À éviter","⚪ Remplissage")))) -> 🟢 QUICK WIN | I6: =IF(G6="","",COUNTIF($G$5:$G$24,">"&G6)+COUNTIF($G$5:G6,G6)) -> 1
A7: 3 | B7: Mettre en forme le reporting mensuel | C7: 1.5 | D7: Oui | E7: Moyen | F7: 3 | G7: =IF(OR(F7="",E7=""),"",F7*IF(E7="Facile",3,IF(E7="Moyen",2,1))*IF(D7="Non",0.5,1)) -> 6 | H7: =IF(G7="","",IF(AND(F7>=4,E7="Facile"),"🟢 QUICK WIN",IF(F7>=4,"🔵 STRATÉGIQUE",IF(AND(E7="Difficile",F7<=3),"🔴 À éviter","⚪ Remplissage")))) -> ⚪ Remplissage | I7: =IF(G7="","",COUNTIF($G$5:$G$24,">"&G7)+COUNTIF($G$5:G7,G7)) -> 3
A8: 4 | G8: =IF(OR(F8="",E8=""),"",F8*IF(E8="Facile",3,IF(E8="Moyen",2,1))*IF(D8="Non",0.5,1)) | H8: =IF(G8="","",IF(AND(F8>=4,E8="Facile"),"🟢 QUICK WIN",IF(F8>=4,"🔵 STRATÉGIQUE",IF(AND(E8="Difficile",F8<=3),"🔴 À éviter","⚪ Remplissage")))) | I8: =IF(G8="","",COUNTIF($G$5:$G$24,">"&G8)+COUNTIF($G$5:G8,G8))
A9: 5 | G9: =IF(OR(F9="",E9=""),"",F9*IF(E9="Facile",3,IF(E9="Moyen",2,1))*IF(D9="Non",0.5,1)) | H9: =IF(G9="","",IF(AND(F9>=4,E9="Facile"),"🟢 QUICK WIN",IF(F9>=4,"🔵 STRATÉGIQUE",IF(AND(E9="Difficile",F9<=3),"🔴 À éviter","⚪ Remplissage")))) | I9: =IF(G9="","",COUNTIF($G$5:$G$24,">"&G9)+COUNTIF($G$5:G9,G9))
A10: 6 | G10: =IF(OR(F10="",E10=""),"",F10*IF(E10="Facile",3,IF(E10="Moyen",2,1))*IF(D10="Non",0.5,1)) | H10: =IF(G10="","",IF(AND(F10>=4,E10="Facile"),"🟢 QUICK WIN",IF(F10>=4,"🔵 STRATÉGIQUE",IF(AND(E10="Difficile",F10<=3),"🔴 À éviter","⚪ Remplissage")))) | I10: =IF(G10="","",COUNTIF($G$5:$G$24,">"&G10)+COUNTIF($G$5:G10,G10))
A11: 7 | G11: =IF(OR(F11="",E11=""),"",F11*IF(E11="Facile",3,IF(E11="Moyen",2,1))*IF(D11="Non",0.5,1)) | H11: =IF(G11="","",IF(AND(F11>=4,E11="Facile"),"🟢 QUICK WIN",IF(F11>=4,"🔵 STRATÉGIQUE",IF(AND(E11="Difficile",F11<=3),"🔴 À éviter","⚪ Remplissage")))) | I11: =IF(G11="","",COUNTIF($G$5:$G$24,">"&G11)+COUNTIF($G$5:G11,G11))
A12: 8 | G12: =IF(OR(F12="",E12=""),"",F12*IF(E12="Facile",3,IF(E12="Moyen",2,1))*IF(D12="Non",0.5,1)) | H12: =IF(G12="","",IF(AND(F12>=4,E12="Facile"),"🟢 QUICK WIN",IF(F12>=4,"🔵 STRATÉGIQUE",IF(AND(E12="Difficile",F12<=3),"🔴 À éviter","⚪ Remplissage")))) | I12: =IF(G12="","",COUNTIF($G$5:$G$24,">"&G12)+COUNTIF($G$5:G12,G12))
A13: 9 | G13: =IF(OR(F13="",E13=""),"",F13*IF(E13="Facile",3,IF(E13="Moyen",2,1))*IF(D13="Non",0.5,1)) | H13: =IF(G13="","",IF(AND(F13>=4,E13="Facile"),"🟢 QUICK WIN",IF(F13>=4,"🔵 STRATÉGIQUE",IF(AND(E13="Difficile",F13<=3),"🔴 À éviter","⚪ Remplissage")))) | I13: =IF(G13="","",COUNTIF($G$5:$G$24,">"&G13)+COUNTIF($G$5:G13,G13))
A14: 10 | G14: =IF(OR(F14="",E14=""),"",F14*IF(E14="Facile",3,IF(E14="Moyen",2,1))*IF(D14="Non",0.5,1)) | H14: =IF(G14="","",IF(AND(F14>=4,E14="Facile"),"🟢 QUICK WIN",IF(F14>=4,"🔵 STRATÉGIQUE",IF(AND(E14="Difficile",F14<=3),"🔴 À éviter","⚪ Remplissage")))) | I14: =IF(G14="","",COUNTIF($G$5:$G$24,">"&G14)+COUNTIF($G$5:G14,G14))
A15: 11 | G15: =IF(OR(F15="",E15=""),"",F15*IF(E15="Facile",3,IF(E15="Moyen",2,1))*IF(D15="Non",0.5,1)) | H15: =IF(G15="","",IF(AND(F15>=4,E15="Facile"),"🟢 QUICK WIN",IF(F15>=4,"🔵 STRATÉGIQUE",IF(AND(E15="Difficile",F15<=3),"🔴 À éviter","⚪ Remplissage")))) | I15: =IF(G15="","",COUNTIF($G$5:$G$24,">"&G15)+COUNTIF($G$5:G15,G15))
A16: 12 | G16: =IF(OR(F16="",E16=""),"",F16*IF(E16="Facile",3,IF(E16="Moyen",2,1))*IF(D16="Non",0.5,1)) | H16: =IF(G16="","",IF(AND(F16>=4,E16="Facile"),"🟢 QUICK WIN",IF(F16>=4,"🔵 STRATÉGIQUE",IF(AND(E16="Difficile",F16<=3),"🔴 À éviter","⚪ Remplissage")))) | I16: =IF(G16="","",COUNTIF($G$5:$G$24,">"&G16)+COUNTIF($G$5:G16,G16))
A17: 13 | G17: =IF(OR(F17="",E17=""),"",F17*IF(E17="Facile",3,IF(E17="Moyen",2,1))*IF(D17="Non",0.5,1)) | H17: =IF(G17="","",IF(AND(F17>=4,E17="Facile"),"🟢 QUICK WIN",IF(F17>=4,"🔵 STRATÉGIQUE",IF(AND(E17="Difficile",F17<=3),"🔴 À éviter","⚪ Remplissage")))) | I17: =IF(G17="","",COUNTIF($G$5:$G$24,">"&G17)+COUNTIF($G$5:G17,G17))
A18: 14 | G18: =IF(OR(F18="",E18=""),"",F18*IF(E18="Facile",3,IF(E18="Moyen",2,1))*IF(D18="Non",0.5,1)) | H18: =IF(G18="","",IF(AND(F18>=4,E18="Facile"),"🟢 QUICK WIN",IF(F18>=4,"🔵 STRATÉGIQUE",IF(AND(E18="Difficile",F18<=3),"🔴 À éviter","⚪ Remplissage")))) | I18: =IF(G18="","",COUNTIF($G$5:$G$24,">"&G18)+COUNTIF($G$5:G18,G18))
A19: 15 | G19: =IF(OR(F19="",E19=""),"",F19*IF(E19="Facile",3,IF(E19="Moyen",2,1))*IF(D19="Non",0.5,1)) | H19: =IF(G19="","",IF(AND(F19>=4,E19="Facile"),"🟢 QUICK WIN",IF(F19>=4,"🔵 STRATÉGIQUE",IF(AND(E19="Difficile",F19<=3),"🔴 À éviter","⚪ Remplissage")))) | I19: =IF(G19="","",COUNTIF($G$5:$G$24,">"&G19)+COUNTIF($G$5:G19,G19))
... A24: 20 | G24: =IF(OR(F24="",E24=""),"",F24*IF(E24="Facile",3,IF(E24="Moyen",2,1))*IF(D24="Non",0.5,1)) | H24: =IF(G24="","",IF(AND(F24>=4,E24="Facile"),"🟢 QUICK WIN",IF(F24>=4,"🔵 STRATÉGIQUE",IF(AND(E24="Difficile",F24<=3),"🔴 À éviter","⚪ Remplissage")))) | I24: =IF(G24="","",COUNTIF($G$5:$G$24,">"&G24)+COUNTIF($G$5:G24,G24))
A26: Priorité = Impact × facilité (Facile 3 / Moyen 2 / Difficile 1), ÷2 si non répétitive. Échelle 0,5 → 15. Catégories : impact ≥4 + facile = Quick Win • impact ≥4 = Stratégique • facile = Remplissage • sinon À éviter.

Sheet Top 5 & Synthèse
A1: TOP 5 AUTOMATIQUE & SYNTHÈSE
A2: Le Top 5 se remplit tout seul depuis la grille. Complétez ensuite les cellules jaunes.
A4: Rang | B4: Tâche | C4: Priorité | D4: Catégorie | E4: Outil envisagé (à remplir)
A5: 1 | B5: =IFERROR(INDEX('Grille d''audit'!$B$5:$B$24,MATCH(1,'Grille d''audit'!$I$5:$I$24,0)),"") -> Préparer les briefings avant RDV client | C5: =IFERROR(INDEX('Grille d''audit'!$G$5:$G$24,MATCH(1,'Grille d''audit'!$I$5:$I$24,0)),"") -> 15 | D5: =IFERROR(INDEX('Grille d''audit'!$H$5:$H$24,MATCH(1,'Grille d''audit'!$I$5:$I$24,0)),"") -> 🟢 QUICK WIN
A6: 2 | B6: =IFERROR(INDEX('Grille d''audit'!$B$5:$B$24,MATCH(2,'Grille d''audit'!$I$5:$I$24,0)),"") -> Rédiger les comptes-rendus de réunion | C6: =IFERROR(INDEX('Grille d''audit'!$G$5:$G$24,MATCH(2,'Grille d''audit'!$I$5:$I$24,0)),"") -> 12 | D6: =IFERROR(INDEX('Grille d''audit'!$H$5:$H$24,MATCH(2,'Grille d''audit'!$I$5:$I$24,0)),"") -> 🟢 QUICK WIN
A7: 3 | B7: =IFERROR(INDEX('Grille d''audit'!$B$5:$B$24,MATCH(3,'Grille d''audit'!$I$5:$I$24,0)),"") -> Mettre en forme le reporting mensuel | C7: =IFERROR(INDEX('Grille d''audit'!$G$5:$G$24,MATCH(3,'Grille d''audit'!$I$5:$I$24,0)),"") -> 6 | D7: =IFERROR(INDEX('Grille d''audit'!$H$5:$H$24,MATCH(3,'Grille d''audit'!$I$5:$I$24,0)),"") -> ⚪ Remplissage
A8: 4 | B8: =IFERROR(INDEX('Grille d''audit'!$B$5:$B$24,MATCH(4,'Grille d''audit'!$I$5:$I$24,0)),"") | C8: =IFERROR(INDEX('Grille d''audit'!$G$5:$G$24,MATCH(4,'Grille d''audit'!$I$5:$I$24,0)),"") | D8: =IFERROR(INDEX('Grille d''audit'!$H$5:$H$24,MATCH(4,'Grille d''audit'!$I$5:$I$24,0)),"")
A9: 5 | B9: =IFERROR(INDEX('Grille d''audit'!$B$5:$B$24,MATCH(5,'Grille d''audit'!$I$5:$I$24,0)),"") | C9: =IFERROR(INDEX('Grille d''audit'!$G$5:$G$24,MATCH(5,'Grille d''audit'!$I$5:$I$24,0)),"") | D9: =IFERROR(INDEX('Grille d''audit'!$H$5:$H$24,MATCH(5,'Grille d''audit'!$I$5:$I$24,0)),"")
A11: MON QUICK WIN N°1 (le plus facile, à lancer dès lundi)
A12: Tâche :
A13: Outil à utiliser :
A14: Action concrète dès lundi :
A16: MON PROJET STRATÉGIQUE N°1 (le plus impactant à moyen terme)
A17: Tâche :
A18: Pourquoi stratégique :
A19: Ressources nécessaires :
A21: Rappel matrice Impact/Effort (Jour 2) : Quick Wins = faire en premier • Stratégiques = planifier • Remplissage = si temps • À éviter = trop complexe pour l'instant.
A22: Colonne 'Outil envisagé' : par défaut, votre outil principal choisi au Jour 1 (Matrice Décisionnelle). Ne mettez un autre outil que si l'écart est décisif pour cette tâche.
